BEGIN:VCALENDAR
VERSION:2.0
PRODID:-//ChamberMaster//Event Calendar 2.0//EN
METHOD:PUBLISH
X-PUBLISHED-TTL:P3D
REFRESH-INTERVAL:P3D
CALSCALE:GREGORIAN
BEGIN:VEVENT
DTSTART;VALUE=DATE:20201007
DTEND;VALUE=DATE:20201009
TRANSP:TRANSPARENT
X-MICROSOFT-CDO-ALLDAYEVENT:TRUE
SUMMARY:*AT&T's Anne Chow featured speaker at ACT Annual Conference
DESCRIPTION:Join the Asian Chamber of Texas for their Annual Business Conference & Awards featuring keynote speaker Anne Chow\, CEO of AT&T Business.  The two-day conference will include discussions about how to bring movement to Diversity Equity\, and Inclusion.  Join the International insight panel to hear from Consul Generals who will discuss the turbulent global economy\, learn how COVID-19 has pushed us into the virtual world and get an insight into Digital Transformation Vision 2030. Lastly\, we want to recognize upstanding entrepreneurs and businesses that have stood up to support our community in times of need.\n\n\n\nAGENDA:\nDay 1 - Oct 7th\n\n1:00 - 2:00 PM CST Featured Presentation & Awards\n\nKeynote Speaker: Anne Chow CEO of AT&T Business\n\n2:15 - 3:15 PM CST Diversity Equity & Inclusion\n\nSpeakers:\n\n\n	Bianca Chow - Diversity\, Equity\, Inclusion and Wellbeing Leader of Fossil Group Inc.\n	Chequan Lewis - Chief Equity Officer of Pizza Hut\n	Guwan Jones - Chief Diversity Officer & VP Workforce Planning of Baylor Scott & White\n\n\n \n\nDay 2 - Oct 8th\n\n1:00 - 2:00 PM CST International Insight\n\nSpeakers\n\n\n	Consul General of Japan\n	Consul General of Canada\n\n\n2:15 - 3:15 PM CST Digital Transform Vision 2030\n\nSpeakers:\n\n\n	Cindy W. Anderson - Global Lead\, Engagement & Eminence of IBM Institute for Business Value\n	Xiaolin Lu - R&D Manager of Texas Instruments\n	Jay Jain - Senior Director of Strategic Execution of NEC Corporation of America\n	Moderator Rushi Ganmukhi - Founder & CEO of Bola AI
X-ALT-DESC;FMTTYPE=text/html:<span style="font-size:12px\;"><span helvetica="" letter-spacing:="" neue="" style="color: rgb(111\, 114\, 135)\; font-family: ">Join the Asian Chamber of Texas for their Annual Business Conference &amp\; Awards featuring keynote speaker Anne Chow\, CEO of AT&amp\;T Business.&nbsp\; The two-day conference will include&nbsp\;discussions about how to bring movement to Diversity Equity\, and Inclusion.&nbsp\; Join the International insight panel to hear from Consul Generals who will discuss the</span></span><span style="color: rgb(111\, 114\, 135)\; font-size: 12px\;">&nbsp\;turbulent global economy\, learn how C</span><span style="font-size:12px\;"><span helvetica="" letter-spacing:="" neue="" style="color: rgb(111\, 114\, 135)\; font-family: ">OVID-19 has pushed us into the virtual world and get an insight into Digital Transformation Vision 2030. Lastly\, we want to recognize upstanding entrepreneurs and businesses that have stood up to support our community in times of need.<br />\n<br />\n<span style="font-size:14px\;"><u><strong>AGENDA:</strong></u></span></span></span>\n<p helvetica="" letter-spacing:="" neue="" style="margin: 0px\; padding: 10px 0px 0px\; color: rgb(111\, 114\, 135)\; font-size: 16px\; line-height: 1.5rem\; font-family: "><span style="font-size:12px\;"><span style="font-weight: 700\; padding-top: 0px\;">Day 1 - Oct 7th</span></span></p>\n\n<p helvetica="" letter-spacing:="" neue="" style="margin: 0px\; padding: 10px 0px 0px\; color: rgb(111\, 114\, 135)\; font-size: 16px\; line-height: 1.5rem\; font-family: "><span style="font-size:12px\;"><span style="font-weight: 700\; padding-top: 0px\;">1:00 - 2:00 PM CST Featured Presentation &amp\; Awards</span></span></p>\n\n<p helvetica="" letter-spacing:="" neue="" style="margin: 0px\; padding: 10px 0px 0px\; color: rgb(111\, 114\, 135)\; font-size: 16px\; line-height: 1.5rem\; font-family: "><span style="font-size:12px\;"><em style="padding-top: 0px\;">Keynote Speaker: Anne Chow CEO of AT&amp\;T Business</em></span></p>\n\n<p helvetica="" letter-spacing:="" neue="" style="margin: 0px\; padding: 10px 0px 0px\; color: rgb(111\, 114\, 135)\; font-size: 16px\; line-height: 1.5rem\; font-family: "><span style="font-size:12px\;"><span style="font-weight: 700\; padding-top: 0px\;">2:15 - 3:15 PM CST Diversity Equity &amp\; Inclusion</span></span></p>\n\n<p helvetica="" letter-spacing:="" neue="" style="margin: 0px\; padding: 10px 0px 0px\; color: rgb(111\, 114\, 135)\; font-size: 16px\; line-height: 1.5rem\; font-family: "><span style="font-size:12px\;">Speakers:</span></p>\n\n<ul helvetica="" letter-spacing:="" neue="" style="margin: 0px\; padding-top: 10px\; padding-right: 0px\; padding-left: 2em\; list-style-position: initial\; list-style-image: initial\; color: rgb(111\, 114\, 135)\; font-size: 16px\; line-height: 1.5rem\; font-family: ">\n	<li style="margin: 0px\; padding: 0px\;"><span style="font-size:12px\;"><em style="padding-top: 0px\;">Bianca Chow - Diversity\, Equity\, Inclusion and Wellbeing Leader of Fossil Group Inc.</em></span></li>\n	<li style="margin: 0px\; padding: 5px 0px 0px\;"><span style="font-size:12px\;"><em style="padding-top: 0px\;">Chequan Lewis - Chief Equity Officer of Pizza Hut</em></span></li>\n	<li style="margin: 0px\; padding: 5px 0px 0px\;"><span style="font-size:12px\;"><em style="padding-top: 0px\;">Guwan Jones - Chief Diversity Officer &amp\; VP Workforce Planning of Baylor Scott &amp\; White</em></span></li>\n</ul>\n\n<p helvetica="" letter-spacing:="" neue="" style="margin: 0px\; padding: 10px 0px 0px\; color: rgb(111\, 114\, 135)\; font-size: 16px\; line-height: 1.5rem\; font-family: ">&nbsp\;</p>\n\n<p helvetica="" letter-spacing:="" neue="" style="margin: 0px\; padding: 10px 0px 0px\; color: rgb(111\, 114\, 135)\; font-size: 16px\; line-height: 1.5rem\; font-family: "><span style="font-size:12px\;"><span style="font-weight: 700\; padding-top: 0px\;">Day 2 - Oct 8th</span></span></p>\n\n<p helvetica="" letter-spacing:="" neue="" style="margin: 0px\; padding: 10px 0px 0px\; color: rgb(111\, 114\, 135)\; font-size: 16px\; line-height: 1.5rem\; font-family: "><span style="font-size:12px\;"><span style="font-weight: 700\; padding-top: 0px\;">1:00 - 2:00 PM CST International Insight</span></span></p>\n\n<p helvetica="" letter-spacing:="" neue="" style="margin: 0px\; padding: 10px 0px 0px\; color: rgb(111\, 114\, 135)\; font-size: 16px\; line-height: 1.5rem\; font-family: "><span style="font-size:12px\;">Speakers</span></p>\n\n<ul helvetica="" letter-spacing:="" neue="" style="margin: 0px\; padding-top: 10px\; padding-right: 0px\; padding-left: 2em\; list-style-position: initial\; list-style-image: initial\; color: rgb(111\, 114\, 135)\; font-size: 16px\; line-height: 1.5rem\; font-family: ">\n	<li style="margin: 0px\; padding: 0px\;"><span style="font-size:12px\;"><em style="padding-top: 0px\;">Consul General of Japan</em></span></li>\n	<li style="margin: 0px\; padding: 5px 0px 0px\;"><span style="font-size:12px\;"><em style="padding-top: 0px\;">Consul General of Canada</em></span></li>\n</ul>\n\n<p helvetica="" letter-spacing:="" neue="" style="margin: 0px\; padding: 10px 0px 0px\; color: rgb(111\, 114\, 135)\; font-size: 16px\; line-height: 1.5rem\; font-family: "><span style="font-size:12px\;"><span style="font-weight: 700\; padding-top: 0px\;">2:15 - 3:15 PM CST Digital Transform Vision 2030</span></span></p>\n\n<p helvetica="" letter-spacing:="" neue="" style="margin: 0px\; padding: 10px 0px 0px\; color: rgb(111\, 114\, 135)\; font-size: 16px\; line-height: 1.5rem\; font-family: "><span style="font-size:12px\;">Speakers:</span></p>\n\n<ul helvetica="" letter-spacing:="" neue="" style="margin: 0px\; padding-top: 10px\; padding-right: 0px\; padding-left: 2em\; list-style-position: initial\; list-style-image: initial\; color: rgb(111\, 114\, 135)\; font-size: 16px\; line-height: 1.5rem\; font-family: ">\n	<li style="margin: 0px\; padding: 0px\;"><span style="font-size:12px\;">Cindy W. Anderson - Global Lead\, Engagement &amp\; Eminence of IBM Institute for Business Value</span></li>\n	<li style="margin: 0px\; padding: 5px 0px 0px\;"><span style="font-size:12px\;">Xiaolin Lu - R&amp\;D Manager of Texas Instruments</span></li>\n	<li style="margin: 0px\; padding: 5px 0px 0px\;"><span style="font-size:12px\;">Jay Jain - Senior Director of Strategic Execution of NEC Corporation of America</span></li>\n	<li style="margin: 0px\; padding: 5px 0px 0px\;"><span style="font-size:12px\;">Moderator Rushi Ganmukhi - Founder &amp\; CEO of Bola AI</span></li>\n</ul>\n
LOCATION:Online Event
UID:e.9090.4646
SEQUENCE:3
DTSTAMP:20260421T145204Z
URL:https://business.techtitans.org/events/details/at-t-s-anne-chow-featured-speaker-at-act-annual-conference-4646
END:VEVENT

END:VCALENDAR
