BEGIN:VCALENDAR
VERSION:2.0
PRODID:-//ChamberMaster//Event Calendar 2.0//EN
METHOD:PUBLISH
X-PUBLISHED-TTL:P3D
REFRESH-INTERVAL:P3D
CALSCALE:GREGORIAN
BEGIN:VEVENT
DTSTART:20200821T210000Z
DTEND:20200821T220000Z
X-MICROSOFT-CDO-ALLDAYEVENT:FALSE
SUMMARY:Artificial Intelligence Forum - Aug. 21
DESCRIPTION:Join us THIS AFTERNOON for a virtual happy hour and networking opportunity to catch up with everyone and hear about the latest from UTD's Center for Applied AI & Machine Learning \n\n \n \n\n\n\n\n\n\n\n\n\nMeeting number: 146 368 0174\n\nPassword: uWhMpTjF444\n\nWebEx link:  https://richardsonchamber.webex.com/richardsonchamber/j.php?MTID=mf954847bf6d3bfca9a1c3f90a907471f\n\n\n\nJoin by video system\n\n Dial 1463680174@richardsonchamber.webex.com\n\n\n\nYou can also dial 173.243.2.68 and enter your meeting number.\n\n\n\nJoin by phone: \n\n+1-408-418-9388 United States Toll\n\nAccess code: 146 368 0174
X-ALT-DESC;FMTTYPE=text/html:<h2><span style="color:#800000\;"><em>Join us </em></span><span style="color:#0000FF\;"><strong>THIS AFTERNOON </strong></span><span style="color:#800000\;"><em>for a virtual happy hour and networking opportunity to catch up with everyone and&nbsp\;hear about the latest from UTD&#39\;s Center for Applied AI &amp\; Machine Learning </em></span></h2>\n\n<h2><font color="#0000cd"><span style="font-size: 18px\;">&nbsp\;</span></font></h2>\n&nbsp\;<br />\n<br />\n<br />\n<br />\n<br />\n<strong>Meeting number: 146 368 0174<br />\nPassword: uWhMpTjF444</strong><br />\n<strong>WebEx link:&nbsp\;&nbsp\;<a href="https://richardsonchamber.webex.com/richardsonchamber/j.php?MTID=mf954847bf6d3bfca9a1c3f90a907471f"><span style="color:#0000FF\;">https://richardsonchamber.webex.com/richardsonchamber/j.php?MTID=mf954847bf6d3bfca9a1c3f90a907471f</span></a></strong><br />\n<br />\nJoin by video system<br />\n&nbsp\;Dial 1463680174@richardsonchamber.webex.com<br />\n<br />\nYou can also dial 173.243.2.68 and enter your meeting number.<br />\n<br />\nJoin by phone:&nbsp\;<br />\n+1-408-418-9388 United States Toll<br />\nAccess code: 146 368 0174<br />\n&nbsp\;\n<p>&nbsp\;</p>\n
LOCATION:WebEx Meeting
UID:e.9090.4634
SEQUENCE:3
DTSTAMP:20260421T014836Z
URL:https://business.techtitans.org/events/details/artificial-intelligence-forum-aug-21-4634
END:VEVENT

END:VCALENDAR
