BEGIN:VCALENDAR
VERSION:2.0
PRODID:-//ChamberMaster//Event Calendar 2.0//EN
METHOD:PUBLISH
X-PUBLISHED-TTL:P3D
REFRESH-INTERVAL:P3D
CALSCALE:GREGORIAN
BEGIN:VEVENT
DTSTART:20190411T163000Z
DTEND:20190411T181500Z
X-MICROSOFT-CDO-ALLDAYEVENT:FALSE
SUMMARY:Artificial Intelligence Forum - April 11
DESCRIPTION:Finding success with AI - Use cases and technology\n\nFind out how three leading companies are using AI to improve business operations. Each will present an overview\, use cases and a technical section which describes their technical strategy\, architecture and challenges of using AI.  This is the perfect opportunity for senior technical managers and C-level executives of both technical and tech enabled companies who are looking to launch AI projects by learning best practices and technology trends.\n\n\n\nFeaturing:\n\n\n\nHealthcare in AI - Improving claim processing using data and AI\, presented by:\n\nYasir Bashir\, Sr. Architect\, Saxony Partners\n\n\n\nApplications of computer vision for financial services\, presented by:\n\nAamer Charania\, Director Data Science\, Capital One\n\nApplications of computer vision in reverse logistics\, presented by:\n\nChintan Shah\, VP of Machine Learning and Analytics\, Hyla Mobile \n\n\n\nModerator:  Babar Bhatti\, principal\, product management\, Core Logic\n\n \n \n\nRegistration policy:\nPayment is necessary at the time of reservations. Due to catering requirements we must charge for reservations not canceled three days prior to the event.  Unclaimed reservations during the event will be relinquished at noon. Walk-in customers will be seated based on space availability.
X-ALT-DESC;FMTTYPE=text/html:<h1 style="font-style: italic\;"><span style="font-size:18px\;"><span style="color:#330066\;"><span style="font-family:arial\;">Finding success with AI - Use cases and technology</span></span></span></h1>\n\n<p>Find out how three leading companies are using AI to improve business operations. Each will present an overview\, use cases and a technical section which describes their technical strategy\, architecture and challenges of using AI.&nbsp\; This is the perfect opportunity for senior technical managers and C-level executives of both technical and tech enabled companies who are looking to launch AI projects by learning best practices and technology trends.</p>\n\n<p><br />\nFeaturing:<br />\n<br />\nHealthcare in AI -&nbsp\;Improving claim processing using data and AI\, presented by:<br />\n<strong>Yasir Bashir\, </strong>Sr. Architect\, <strong>Saxony Partners</strong><br />\n<br />\nApplications of computer vision for financial services\, presented by:<br />\n<strong>Aamer Charania\,</strong> Director Data Science\, <strong>Capital One</strong></p>\n\n<p>Applications of computer vision in reverse logistics\, presented by:<br />\n<strong>Chintan Shah\,</strong> VP of Machine Learning and Analytics\, <strong>Hyla Mobile&nbsp\;</strong></p>\n\n<p><br />\nModerator:&nbsp\; <strong>Babar Bhatti\,</strong> principal\, product management\,<strong> Core Logic</strong><br />\n&nbsp\;</p>\n&nbsp\;\n\n<p><strong>Registration policy:</strong></p>\nPayment is necessary at the time of reservations. Due to catering requirements we must charge for reservations not canceled three days prior to the event.&nbsp\; Unclaimed reservations during the event will be relinquished at noon. Walk-in customers will be seated based on space availability.
LOCATION:Addison Treehouse 14681 Midway Road\, 2nd Floor Addison 75001
UID:e.9090.4501
SEQUENCE:3
DTSTAMP:20260420T123403Z
URL:https://business.techtitans.org/events/details/artificial-intelligence-forum-april-11-4501
END:VEVENT

END:VCALENDAR
