BEGIN:VCALENDAR
VERSION:2.0
PRODID:-//ChamberMaster//Event Calendar 2.0//EN
METHOD:PUBLISH
X-PUBLISHED-TTL:P3D
REFRESH-INTERVAL:P3D
CALSCALE:GREGORIAN
BEGIN:VEVENT
DTSTART:20181025T210000Z
DTEND:20181025T220000Z
X-MICROSOFT-CDO-ALLDAYEVENT:FALSE
SUMMARY:Advocacy Team Meeting - 2018 - Oct. 25
DESCRIPTION:Please join us for the Advocacy Team meeting to review and approve the Tech Titan's Legislative Agenda.  The committee will have a chance to review the priorities and after approval\, will send it to the board for final approval before we present it to our state legislators in Austin.
X-ALT-DESC;FMTTYPE=text/html:Please join us for the Advocacy Team meeting to review and approve the Tech Titan&#39\;s Legislative Agenda.&nbsp\; The committee will have a chance to review the priorities and after approval\, will send it to the board for final approval before we present it to our state legislators in Austin.
LOCATION:Conference call: 800-326-0013 Conf ID: 3217123
UID:e.9090.4456
SEQUENCE:3
DTSTAMP:20260420T144703Z
URL:https://business.techtitans.org/events/details/advocacy-team-meeting-2018-oct-25-4456
END:VEVENT

END:VCALENDAR
