BEGIN:VCALENDAR
VERSION:2.0
PRODID:-//ChamberMaster//Event Calendar 2.0//EN
METHOD:PUBLISH
X-PUBLISHED-TTL:P3D
REFRESH-INTERVAL:P3D
CALSCALE:GREGORIAN
BEGIN:VEVENT
DTSTART:20170309T220000Z
DTEND:20170309T230000Z
X-MICROSOFT-CDO-ALLDAYEVENT:FALSE
SUMMARY:Advocacy Team Meeting - 2017 - March 9
DESCRIPTION:The Advocacy Team will host a panel of representatives from large technology companies to discuss their legislative priorities in anticipation of our trip to Washington\, D.C. in April.
X-ALT-DESC;FMTTYPE=text/html:The Advocacy Team will host a panel of representatives from large technology companies to discuss their legislative priorities in anticipation of our trip to Washington\, D.C. in April.
LOCATION:Tech Titans Board Room 411 Belle Grove Drive Richardson\, TX 75080 or Call in: 800-326-0013 ID: 3217123
UID:e.9090.3316
SEQUENCE:3
DTSTAMP:20260421T210151Z
URL:https://business.techtitans.org/events/details/advocacy-team-meeting-2017-march-9-3316
END:VEVENT

END:VCALENDAR
