BEGIN:VCALENDAR
VERSION:2.0
PRODID:-//ChamberMaster//Event Calendar 2.0//EN
METHOD:PUBLISH
X-PUBLISHED-TTL:P3D
REFRESH-INTERVAL:P3D
CALSCALE:GREGORIAN
BEGIN:VEVENT
DTSTART:20170824T163000Z
DTEND:20170824T180000Z
X-MICROSOFT-CDO-ALLDAYEVENT:FALSE
SUMMARY:Advocacy Team meeting - 2017 Aug. 24
DESCRIPTION:For their August meeting\, the Tech Titans Advocacy Team will join the Richardson Chamber of Commerce Public Policy Committee. Featured speaker Deputy City Manager Don Magner will discuss the City of Richardson budget over lunch.
X-ALT-DESC;FMTTYPE=text/html:For&nbsp\;their&nbsp\;August&nbsp\;meeting\, the Tech Titans Advocacy&nbsp\;Team will join the Richardson Chamber of Commerce Public Policy Committee. Featured speaker Deputy City Manager Don Magner will discuss the City of Richardson budget over lunch.
LOCATION:Board Room Tech Titans 411 Belle Grove Drive Richardson\, TX 75080
UID:e.9090.3345
SEQUENCE:3
DTSTAMP:20260421T144826Z
URL:https://business.techtitans.org/events/details/advocacy-team-meeting-2017-aug-24-3345
END:VEVENT

END:VCALENDAR
