BEGIN:VCALENDAR
VERSION:2.0
PRODID:-//ChamberMaster//Event Calendar 2.0//EN
METHOD:PUBLISH
X-PUBLISHED-TTL:P3D
REFRESH-INTERVAL:P3D
CALSCALE:GREGORIAN
BEGIN:VEVENT
DTSTART:20170413T210000Z
DTEND:20170413T220000Z
X-MICROSOFT-CDO-ALLDAYEVENT:FALSE
SUMMARY:Advocacy Team Meeting - 2017 April 13
DESCRIPTION:The Advocacy Team will discuss updates in the state and federal legislatures.
X-ALT-DESC;FMTTYPE=text/html:The Advocacy Team will discuss updates in the state and federal legislatures.&nbsp\; &nbsp\;
LOCATION:Tech Titans - Board Room 411 Belle Grove Drive Richardson\, Texas 75080 or call in: 800-326-0013 Conf ID: 3217123
UID:e.9090.3324
SEQUENCE:3
DTSTAMP:20260421T192432Z
URL:https://business.techtitans.org/events/details/advocacy-team-meeting-2017-april-13-3324
END:VEVENT

END:VCALENDAR
