BEGIN:VCALENDAR
VERSION:2.0
PRODID:-//ChamberMaster//Event Calendar 2.0//EN
METHOD:PUBLISH
X-PUBLISHED-TTL:P3D
REFRESH-INTERVAL:P3D
CALSCALE:GREGORIAN
BEGIN:VEVENT
DTSTART:20160908T210000Z
DTEND:20160908T220000Z
X-MICROSOFT-CDO-ALLDAYEVENT:FALSE
SUMMARY:Advocacy Team meeting - 2016 Sept. 8
DESCRIPTION:SAVE the DATE\n\n\n\nTech Titans Advocacy Team meeting will be Thursday\, Sept. 8.  Program/topic to be announced soon.
X-ALT-DESC;FMTTYPE=text/html:<strong>SAVE the DATE</strong><br />\n<br />\nTech Titans Advocacy Team meeting will be Thursday\, Sept. 8.&nbsp\; Program/topic to be announced soon.
LOCATION:Tech Titans office 411 Belle Grove Dr. Richardson\, TX 75080 OR 800-326-0013 Conf ID: 3217123
UID:e.9090.3258
SEQUENCE:3
DTSTAMP:20260422T075125Z
URL:https://business.techtitans.org/events/details/advocacy-team-meeting-2016-sept-8-3258
END:VEVENT

END:VCALENDAR
