BEGIN:VCALENDAR
VERSION:2.0
PRODID:-//ChamberMaster//Event Calendar 2.0//EN
METHOD:PUBLISH
X-PUBLISHED-TTL:P3D
REFRESH-INTERVAL:P3D
CALSCALE:GREGORIAN
BEGIN:VEVENT
DTSTART:20161212T173000Z
DTEND:20161212T190000Z
X-MICROSOFT-CDO-ALLDAYEVENT:FALSE
SUMMARY:Advocacy Team Meeting - 2016 Dec. 12
DESCRIPTION:The Tech Titans Advocacy Team is invited to join the Richardson Chamber's Public Policy Committee meeting to meet with several of our state elected officials\, Senator Van Taylor\, Rep. Jeff Leach and Rep. Linda Koop. Both groups will present their legislative agendas to them and hear about their priorities before they head off to Austin in January.
X-ALT-DESC;FMTTYPE=text/html:The Tech Titans Advocacy Team is invited to join the Richardson Chamber&#39\;s Public Policy Committee meeting to meet with several of our state elected officials\, Senator Van Taylor\, Rep. Jeff Leach and Rep. Linda Koop.&nbsp\;Both groups will present their legislative agendas to them and hear about their priorities before they head off to Austin in January.
LOCATION:Richardson Chamber of Commerce/Tech Titans Office 411 Belle Grove Dr. Richardson\, TX 75080 OR Conference Bridge: 800-326-0013 Conf ID: 3217123
UID:e.9090.3282
SEQUENCE:3
DTSTAMP:20260422T005615Z
URL:https://business.techtitans.org/events/details/advocacy-team-meeting-2016-dec-12-3282
END:VEVENT

END:VCALENDAR
