BEGIN:VCALENDAR
VERSION:2.0
PRODID:-//ChamberMaster//Event Calendar 2.0//EN
METHOD:PUBLISH
X-PUBLISHED-TTL:P3D
REFRESH-INTERVAL:P3D
CALSCALE:GREGORIAN
BEGIN:VEVENT
DTSTART:20160414T210000Z
DTEND:20160414T220000Z
X-MICROSOFT-CDO-ALLDAYEVENT:FALSE
SUMMARY:Advocacy Team Meeting - 2016 - April 14
DESCRIPTION:The Advocacy Team will meet on Thursday\, April 14 from 4:00 - 5:00 pm.  Our guest speaker will be Texas Representative Angie Chen Button to discuss economic development in the state of Texas.  Since we have an elected official present\, we ask that the team show up in person.
X-ALT-DESC;FMTTYPE=text/html:The Advocacy Team will meet on Thursday\, April 14 from 4:00&nbsp\;- 5:00 pm.&nbsp\; Our guest speaker will be Texas Representative Angie Chen Button to discuss economic development in the state of Texas.&nbsp\; Since we have an elected official present\, we ask that the team show up in person.
LOCATION:Tech Titans office - 411 Belle Grove Dr.\, Richardson
UID:e.9090.3202
SEQUENCE:3
DTSTAMP:20260422T172807Z
URL:https://business.techtitans.org/events/details/advocacy-team-meeting-2016-april-14-3202
END:VEVENT

END:VCALENDAR
