BEGIN:VCALENDAR
VERSION:2.0
PRODID:-//ChamberMaster//Event Calendar 2.0//EN
METHOD:PUBLISH
X-PUBLISHED-TTL:P3D
REFRESH-INTERVAL:P3D
CALSCALE:GREGORIAN
BEGIN:VEVENT
DTSTART:20150514T163000Z
DTEND:20150514T180000Z
X-MICROSOFT-CDO-ALLDAYEVENT:FALSE
SUMMARY:Advocacy Team Meeting - 2015 May 14
DESCRIPTION:MTBC Advocacy Team meeting will be Thursday\, May 14th.  As the Texas Legislature nears the end of the 84th session\, we will get an update on where the MTBC's Legislative Agenda items stand.  We will also discuss whether MTBC should produce a legislative "report card".
X-ALT-DESC;FMTTYPE=text/html:MTBC Advocacy Team meeting will be Thursday\, May 14th.&nbsp\; As the Texas Legislature nears the end of the 84th session\, we will get an update on where the MTBC&#39\;s Legislative Agenda items stand.&nbsp\; We will also discuss&nbsp\;whether MTBC should produce a&nbsp\;legislative &quot\;report card&quot\;.
LOCATION:MTBC Office\, 411 Belle Grove Dr. Richardson or if you cannot attend in person\, 800-326-0013 Conf ID: 3217123
UID:e.9090.3120
SEQUENCE:3
DTSTAMP:20260423T083319Z
URL:https://business.techtitans.org/events/details/advocacy-team-meeting-2015-may-14-3120
END:VEVENT

END:VCALENDAR
