BEGIN:VCALENDAR
VERSION:2.0
PRODID:-//ChamberMaster//Event Calendar 2.0//EN
METHOD:PUBLISH
X-PUBLISHED-TTL:P3D
REFRESH-INTERVAL:P3D
CALSCALE:GREGORIAN
BEGIN:VEVENT
DTSTART:20150611T163000Z
DTEND:20150611T180000Z
X-MICROSOFT-CDO-ALLDAYEVENT:FALSE
SUMMARY:Advocacy Team Meeting - 2015 June 11
DESCRIPTION:MTBC Advocacy Team meeting will be Thursday\, June 11.  Special guest speaker State Representative  Angie Chen Button will give a briefing on the 84th Legislative Session.
X-ALT-DESC;FMTTYPE=text/html:MTBC Advocacy Team meeting will be Thursday\, June 11.&nbsp\; Special guest speaker State Representative&nbsp\; Angie Chen Button will give a briefing on the 84th Legislative Session.
LOCATION:MTBC Office 411 Belle Grove Dr. Richardson\, TX 75080
UID:e.9090.3131
SEQUENCE:3
DTSTAMP:20260423T071356Z
URL:https://business.techtitans.org/events/details/advocacy-team-meeting-2015-june-11-3131
END:VEVENT

END:VCALENDAR
