BEGIN:VCALENDAR
VERSION:2.0
PRODID:-//ChamberMaster//Event Calendar 2.0//EN
METHOD:PUBLISH
X-PUBLISHED-TTL:P3D
REFRESH-INTERVAL:P3D
CALSCALE:GREGORIAN
BEGIN:VEVENT
DTSTART:20180824T223000Z
DTEND:20180825T023000Z
X-MICROSOFT-CDO-ALLDAYEVENT:FALSE
SUMMARY:2018 Tech Titans Gala - Aug. 24
DESCRIPTION:The Tech Titans awards gala is a black-tie event celebrating the achievements of cutting-edge leaders from more than 4\,000 tech companies whose ideas have elevated technology in North Texas. The prestigious annual contest recognizes outstanding information technology companies and individuals in the North Texas area who have made contributions during the past year locally\, as well as to the technology industry overall. \n\n \n\nCocktail attire and black-tie optional\n\n$10 self-parking\, $13 valet parking\n\n\n\nLIMITED SEATING LEFT - PLEASE CONTACT MALLORY CRUMB AT MALLORY@TECHTITANS.ORG TO INQUIRE AVAILABILITY.
X-ALT-DESC;FMTTYPE=text/html:<p>The Tech Titans awards gala is a black-tie event celebrating the achievements of cutting-edge leaders from more than 4\,000 tech companies whose ideas have elevated technology in North Texas. The prestigious annual contest recognizes outstanding information technology companies and individuals in the North Texas area who have made contributions during the past year locally\, as well as to the technology industry overall.&nbsp\;<br />\n&nbsp\;</p>\n\n<p>Cocktail attire and black-tie optional<br />\n<span style="line-height: 1.6\;">$10 self-parking\, $13&nbsp\;valet parking</span><br />\n<br />\n<strong style="line-height: 20.8px\;">LIMITED SEATING LEFT - PLEASE CONTACT MALLORY CRUMB AT <a href="mailto:mallory@techtitans.org?subject=2018%20Tech%20Titans%20Gala">MALLORY@TECHTITANS.ORG</a> TO INQUIRE AVAILABILITY.</strong></p>\n
LOCATION:Renaissance Dallas at Plano Legacy West Hotel 6007 Legacy Drive Plano\, TX 75024
UID:e.9090.3385
SEQUENCE:3
DTSTAMP:20260420T174354Z
URL:https://business.techtitans.org/events/details/2018-tech-titans-gala-aug-24-3385
END:VEVENT

END:VCALENDAR
