BEGIN:VCALENDAR
VERSION:2.0
PRODID:-//ChamberMaster//Event Calendar 2.0//EN
METHOD:PUBLISH
X-PUBLISHED-TTL:P3D
REFRESH-INTERVAL:P3D
CALSCALE:GREGORIAN
BEGIN:VEVENT
DTSTART:20170825T223000Z
DTEND:20170826T043000Z
X-MICROSOFT-CDO-ALLDAYEVENT:FALSE
SUMMARY:2017 Tech Titans Gala - Aug. 25
DESCRIPTION:The Tech Titans awards gala is a black-tie event celebrating the achievements of cutting-edge leaders from more than 4\,000 tech companies whose ideas have elevated technology in North Texas. The prestigious annual contest recognizes outstanding information technology companies and individuals in the North Texas area who have made contributions during the past year locally\, as well as to the technology industry overall. \n\n \n\nSponsorships are available\n\nFormal attire optional\n\nComplimentary self-parking\, $9 garage parking\, $12 valet parking
X-ALT-DESC;FMTTYPE=text/html:<p>The Tech Titans awards gala is a black-tie event celebrating the achievements of cutting-edge leaders from more than 4\,000 tech companies whose ideas have elevated technology in North Texas. The prestigious annual contest recognizes outstanding information technology companies and individuals in the North Texas area who have made contributions during the past year locally\, as well as to the technology industry overall.&nbsp\;<br />\n&nbsp\;</p>\n\n<p><a href="https://chambermaster.blob.core.windows.net/userfiles/UserFiles/chambers/9090/File/SponsorInfoTechTitansGala20171.pdf" target="_blank"><strong style="line-height: 1.6\;">Sponsorships are available</strong></a></p>\n\n<p>Formal attire optional<br />\n<span style="line-height: 1.6\;">Complimentary self-parking\, $9&nbsp\;garage parking\, $12&nbsp\;valet parking</span></p>\n
LOCATION:Renaissance Dallas at Plano Legacy West Hotel 6007 Legacy Drive Plano\, TX 75024
UID:e.9090.3313
SEQUENCE:3
DTSTAMP:20260421T155101Z
URL:https://business.techtitans.org/events/details/2017-tech-titans-gala-aug-25-3313
END:VEVENT

END:VCALENDAR
