BEGIN:VCALENDAR
VERSION:2.0
PRODID:-//ChamberMaster//Event Calendar 2.0//EN
METHOD:PUBLISH
X-PUBLISHED-TTL:P3D
REFRESH-INTERVAL:P3D
CALSCALE:GREGORIAN
BEGIN:VEVENT
DTSTART:20160819T223000Z
DTEND:20160820T043000Z
X-MICROSOFT-CDO-ALLDAYEVENT:FALSE
SUMMARY:2016 Tech Titans Gala - Aug. 19
DESCRIPTION:The Tech Titans awards gala is a black-tie event celebrating the achievements of cutting-edge leaders from more than 4\,000 tech companies whose ideas have elevated technology in North Texas. The prestigious annual contest recognizes outstanding information technology companies and individuals in the North Texas area who have made contributions during the past year locally\, as well as to the technology industry overall. \n\n \n\nSponsorships are available\n\nFormal Attire Optional. \n\nComplimentary self-parking\, $5 garage parking\, $10 valet parking
X-ALT-DESC;FMTTYPE=text/html:<p>The Tech Titans awards gala is a black-tie event celebrating the achievements of cutting-edge leaders from more than 4\,000 tech companies whose ideas have elevated technology in North Texas. The prestigious annual contest recognizes outstanding information technology companies and individuals in the North Texas area who have made contributions during the past year locally\, as well as to the technology industry overall.&nbsp\;<br />\n&nbsp\;</p>\n\n<p><a href="http://files.constantcontact.com/fb84e3b9001/98478ce2-006f-4b02-8c9d-820237092f82.pdf"><strong style="line-height: 1.6\;">Sponsorships are available</strong></a></p>\n\n<p>Formal Attire Optional.&nbsp\;<br />\n<span style="line-height: 1.6\;">Complimentary self-parking\, $5 garage parking\, $10 valet parking</span></p>\n
LOCATION:InterContinental Hotel - Dallas 15201 Dallas Parkway Addison\, TX 75001
UID:e.9090.3161
SEQUENCE:3
DTSTAMP:20260422T093954Z
URL:https://business.techtitans.org/events/details/2016-tech-titans-gala-aug-19-08-19-2016-3161
END:VEVENT

END:VCALENDAR
